BEGIN:VCALENDAR
VERSION:2.0
PRODID:-//Sabre//Sabre VObject 4.5.8//EN
CALSCALE:GREGORIAN
BEGIN:VEVENT
UID:sabre-vobject-d7a4e544-20f3-41b5-802d-62d6fea6f61e
DTSTAMP:20260424T214833Z
SUMMARY:Herz in Not - was bei Infarkt wirklich zählt
DESCRIPTION:https://neuburg.com/veranstaltungen/herz-in-not-was-bei-infarkt
 -wirklich-zaehlt_id45128
DTSTART;TZID=Europe/Berlin:20260428T180000
DURATION:PT30M
LOCATION:AMEOS Institut Süd\, Bahnhofstraße 103b\, 86633 Neuburg an der D
 onau
END:VEVENT
END:VCALENDAR
