BEGIN:VCALENDAR
VERSION:2.0
PRODID:-//Sabre//Sabre VObject 4.5.8//EN
CALSCALE:GREGORIAN
BEGIN:VEVENT
UID:sabre-vobject-dd476ad0-1413-439d-ada4-151308cff654
DTSTAMP:20260425T132002Z
SUMMARY:Più Präsentiert: Alex Heitlinger
DESCRIPTION:https://neuburg.com/veranstaltungen/piu-praesentiert-alex-heitl
 inger_id45121
DTSTART;TZID=Europe/Berlin:20260430T193000
DTEND;TZID=Europe/Berlin:20260430T210000
LOCATION:Più Piano\, Spitalstraße C 172\, 86633 Neuburg an der Donau
END:VEVENT
END:VCALENDAR
