BEGIN:VCALENDAR
VERSION:2.0
PRODID:-//Sabre//Sabre VObject 4.5.8//EN
CALSCALE:GREGORIAN
BEGIN:VEVENT
UID:sabre-vobject-9a8300eb-44d0-45ba-9a6e-d347107e6f84
DTSTAMP:20260421T142251Z
SUMMARY:Schnelle Hilfe\, lange Wartezeiten? Ein Blick hinter die Kulissen d
 er Notaufnahme
DESCRIPTION:https://neuburg.com/veranstaltungen/schnelle-hilfe-lange-wartez
 eiten-ein-blick-hinter-die-kulissen-der-notaufnahme_id45113
DTSTART;TZID=Europe/Berlin:20260519T180000
DURATION:PT30M
LOCATION:AMEOS Institut Süd\, Bahnhofstraße 103b\, 86633 Neuburg an der D
 onau
END:VEVENT
END:VCALENDAR
