BEGIN:VCALENDAR
VERSION:2.0
PRODID:-//Sabre//Sabre VObject 4.5.8//EN
CALSCALE:GREGORIAN
BEGIN:VEVENT
UID:sabre-vobject-e718e0f7-6b89-4bf3-b3dd-c331b18dd238
DTSTAMP:20260424T125102Z
SUMMARY:Gelenkersatz bei Arthrose - der Weg zu mehr Lebensqualität
DESCRIPTION:https://neuburg.com/veranstaltungen/gelenkersatz-bei-arthrose-d
 er-weg-zu-mehr-lebensqualitaet_id45111
DTSTART;TZID=Europe/Berlin:20260428T180000
DURATION:PT30M
LOCATION:AMEOS Institut Süd\, Bahnhofstraße 103b\, 86633 Neuburg an der D
 onau
END:VEVENT
END:VCALENDAR
