BEGIN:VCALENDAR
VERSION:2.0
PRODID:-//Sabre//Sabre VObject 4.5.8//EN
CALSCALE:GREGORIAN
BEGIN:VEVENT
UID:sabre-vobject-565cf097-5794-41c9-9db9-a29265a4dbdc
DTSTAMP:20260421T171858Z
SUMMARY:Ludwig Wright live in der Drogerie
DESCRIPTION:https://neuburg.com/veranstaltungen/ludwig-wright-live-in-der-d
 rogerie_id45106
DTSTART;TZID=Europe/Berlin:20260424T203000
DTEND;TZID=Europe/Berlin:20260424T223000
LOCATION:Die Drogerie – Live Club\, Luitpoldstraße 180 B\, 86633 Neuburg
  an der Donau
END:VEVENT
END:VCALENDAR
