BEGIN:VCALENDAR
VERSION:2.0
PRODID:-//Sabre//Sabre VObject 4.5.8//EN
CALSCALE:GREGORIAN
BEGIN:VEVENT
UID:sabre-vobject-807da6f4-56e1-4394-a535-c738fbd74d7f
DTSTAMP:20260421T162503Z
SUMMARY:HOFFMANN MINERAL - Entdeckungsreise durch Biotope und aktive Abbaus
 tätten der Neuburger Kieselerde
DESCRIPTION:https://neuburg.com/veranstaltungen/hoffmann-mineral-entdeckung
 sreise-durch-biotope-und-aktive-abbaustaetten-der-neuburger-kieselerde_id4
 5104
DTSTART;TZID=Europe/Berlin:20260613T133000
DTEND;TZID=Europe/Berlin:20260613T170000
LOCATION:Hoffmann Mineral GmbH\, Münchener Straße 75\, 86633  Neuburg an 
 der Donau
END:VEVENT
END:VCALENDAR
