BEGIN:VCALENDAR
VERSION:2.0
PRODID:-//Sabre//Sabre VObject 4.5.8//EN
CALSCALE:GREGORIAN
BEGIN:VEVENT
UID:sabre-vobject-0822052d-de71-480e-aa7c-76831992f24e
DTSTAMP:20260421T153753Z
SUMMARY:Weinverkostung mit Weinbergführung
DESCRIPTION:https://neuburg.com/veranstaltungen/weinverkostung-mit-weinberg
 fuehrung_id45079
DTSTART;TZID=Europe/Berlin:20260815T160000
DTEND;TZID=Europe/Berlin:20260815T190000
LOCATION:Weinberg & Weinhaus Tremml\, \, 86633 Neuburg an der Donau
END:VEVENT
END:VCALENDAR
