BEGIN:VCALENDAR
VERSION:2.0
PRODID:-//Sabre//Sabre VObject 4.5.8//EN
CALSCALE:GREGORIAN
BEGIN:VEVENT
UID:sabre-vobject-1e5ecf29-6168-41fe-8320-6d8fa824e3e9
DTSTAMP:20260421T104917Z
SUMMARY:Freiluft-Training (Gymnastik)
DESCRIPTION:https://neuburg.com/veranstaltungen/freiluft-training-gymnastik
 _id45063
DTSTART;TZID=Europe/Berlin:20260609T100000
DTEND;TZID=Europe/Berlin:20260609T104500
LOCATION:Bürgerhaus Ostend\, Berliner Straße 164\, 86633 Neuburg an der D
 onau
END:VEVENT
END:VCALENDAR
