BEGIN:VCALENDAR
VERSION:2.0
PRODID:-//Sabre//Sabre VObject 4.5.8//EN
CALSCALE:GREGORIAN
BEGIN:VEVENT
UID:sabre-vobject-8fac48e5-7996-489e-b70a-3ce3c581753c
DTSTAMP:20260421T104916Z
SUMMARY:Freiluft-Training (Gymnastik)
DESCRIPTION:https://neuburg.com/veranstaltungen/freiluft-training-gymnastik
 _id45062
DTSTART;TZID=Europe/Berlin:20260602T100000
DTEND;TZID=Europe/Berlin:20260602T104500
LOCATION:Bürgerhaus Ostend\, Berliner Straße 164\, 86633 Neuburg an der D
 onau
END:VEVENT
END:VCALENDAR
