BEGIN:VCALENDAR
VERSION:2.0
PRODID:-//Sabre//Sabre VObject 4.5.8//EN
CALSCALE:GREGORIAN
BEGIN:VEVENT
UID:sabre-vobject-b79c1b94-6c36-4fdd-abbb-349e251bbe63
DTSTAMP:20260421T125607Z
SUMMARY:Freiluft-Training (Gymnastik)
DESCRIPTION:https://neuburg.com/veranstaltungen/freiluft-training-gymnastik
 _id45059
DTSTART;TZID=Europe/Berlin:20260512T100000
DTEND;TZID=Europe/Berlin:20260512T104500
LOCATION:Bürgerhaus Ostend\, Berliner Straße 164\, 86633 Neuburg an der D
 onau
END:VEVENT
END:VCALENDAR
