BEGIN:VCALENDAR
VERSION:2.0
PRODID:-//Sabre//Sabre VObject 4.5.8//EN
CALSCALE:GREGORIAN
BEGIN:VEVENT
UID:sabre-vobject-ceada641-2563-48c3-9d2e-cf66c11e7065
DTSTAMP:20260421T142250Z
SUMMARY:Boule-Spiel auf dem Volksfestplatz
DESCRIPTION:https://neuburg.com/veranstaltungen/boule-spiel-auf-dem-volksfe
 stplatz_id45057
DTSTART;TZID=Europe/Berlin:20260529T140000
DURATION:PT30M
LOCATION:Volksfestplatz\, Volksfestplatz\, 86633 Neuburg an der Donau
END:VEVENT
END:VCALENDAR
