BEGIN:VCALENDAR
VERSION:2.0
PRODID:-//Sabre//Sabre VObject 4.5.8//EN
CALSCALE:GREGORIAN
BEGIN:VEVENT
UID:sabre-vobject-6b0bd059-cf31-4544-adfe-8f568507f163
DTSTAMP:20260421T090829Z
SUMMARY:Boule-Spiel auf dem Volksfestplatz
DESCRIPTION:https://neuburg.com/veranstaltungen/boule-spiel-auf-dem-volksfe
 stplatz_id45055
DTSTART;TZID=Europe/Berlin:20260515T140000
DURATION:PT30M
LOCATION:Volksfestplatz\, Volksfestplatz\, 86633 Neuburg an der Donau
END:VEVENT
END:VCALENDAR
