BEGIN:VCALENDAR
VERSION:2.0
PRODID:-//Sabre//Sabre VObject 4.5.8//EN
CALSCALE:GREGORIAN
BEGIN:VEVENT
UID:sabre-vobject-b3522644-2a8b-4b17-856b-04be01882533
DTSTAMP:20260421T124146Z
SUMMARY:Fledermaus-Kasten-Kontrolle
DESCRIPTION:https://neuburg.com/veranstaltungen/fledermaus-kasten-kontrolle
 _id44997
DTSTART;TZID=Europe/Berlin:20260523T140000
DURATION:PT30M
END:VEVENT
END:VCALENDAR
