BEGIN:VCALENDAR
VERSION:2.0
PRODID:-//Sabre//Sabre VObject 4.5.8//EN
CALSCALE:GREGORIAN
BEGIN:VEVENT
UID:sabre-vobject-91af0053-78e7-45e9-92a0-2a5eb31368f0
DTSTAMP:20260421T090651Z
SUMMARY:Jetzt sind wir dran
DESCRIPTION:https://neuburg.com/veranstaltungen/jetzt-sind-wir-dran_id44913
DTSTART;TZID=Europe/Berlin:20260515T190000
DTEND;TZID=Europe/Berlin:20260515T220000
LOCATION:Stadtmuseum Neuburg an der Donau\, Amalienstraße  19\, 86633 Neub
 urg an der Donau
END:VEVENT
END:VCALENDAR
