BEGIN:VCALENDAR
VERSION:2.0
PRODID:-//Sabre//Sabre VObject 4.5.8//EN
CALSCALE:GREGORIAN
BEGIN:VEVENT
UID:sabre-vobject-1b2a1acc-6ae9-4eb9-a474-ac2773a41b3a
DTSTAMP:20260421T090617Z
SUMMARY:Jetzt sind wir dran
DESCRIPTION:https://neuburg.com/veranstaltungen/jetzt-sind-wir-dran_id44912
DTSTART;TZID=Europe/Berlin:20260514T190000
DTEND;TZID=Europe/Berlin:20260514T220000
LOCATION:Stadtmuseum Neuburg an der Donau\, Amalienstraße  19\, 86633 Neub
 urg an der Donau
END:VEVENT
END:VCALENDAR
