BEGIN:VCALENDAR
VERSION:2.0
PRODID:-//Sabre//Sabre VObject 4.5.8//EN
CALSCALE:GREGORIAN
BEGIN:VEVENT
UID:sabre-vobject-746623ee-c779-46da-a17c-b123b6818064
DTSTAMP:20260421T090649Z
SUMMARY:Jetzt sind wir dran
DESCRIPTION:https://neuburg.com/veranstaltungen/jetzt-sind-wir-dran_id44911
DTSTART;TZID=Europe/Berlin:20260509T190000
DTEND;TZID=Europe/Berlin:20260509T220000
LOCATION:Stadtmuseum Neuburg an der Donau\, Amalienstraße  19\, 86633 Neub
 urg an der Donau
END:VEVENT
END:VCALENDAR
