BEGIN:VCALENDAR
VERSION:2.0
PRODID:-//Sabre//Sabre VObject 4.5.8//EN
CALSCALE:GREGORIAN
BEGIN:VEVENT
UID:sabre-vobject-73f1a557-ae2b-4a87-b97e-3eab4ad5ccd2
DTSTAMP:20260421T090619Z
SUMMARY:Jetzt sind wir dran
DESCRIPTION:https://neuburg.com/veranstaltungen/jetzt-sind-wir-dran_id44910
DTSTART;TZID=Europe/Berlin:20260508T190000
DTEND;TZID=Europe/Berlin:20260508T220000
LOCATION:Stadtmuseum Neuburg an der Donau\, Amalienstraße  19\, 86633 Neub
 urg an der Donau
END:VEVENT
END:VCALENDAR
