BEGIN:VCALENDAR
VERSION:2.0
PRODID:-//Sabre//Sabre VObject 4.5.8//EN
CALSCALE:GREGORIAN
BEGIN:VEVENT
UID:sabre-vobject-183e59c3-39d9-40eb-9a15-751e1ed9b78a
DTSTAMP:20260421T090621Z
SUMMARY:Jetzt sind wir dran
DESCRIPTION:https://neuburg.com/veranstaltungen/jetzt-sind-wir-dran_id44906
DTSTART;TZID=Europe/Berlin:20260507T190000
DTEND;TZID=Europe/Berlin:20260507T220000
LOCATION:Stadtmuseum Neuburg an der Donau\, Amalienstraße  19\, 86633 Neub
 urg an der Donau
END:VEVENT
END:VCALENDAR
