BEGIN:VCALENDAR
VERSION:2.0
PRODID:-//Sabre//Sabre VObject 4.5.8//EN
CALSCALE:GREGORIAN
BEGIN:VEVENT
UID:sabre-vobject-ec3e5f95-c2ab-4b78-affd-257be3a1875c
DTSTAMP:20260421T142251Z
SUMMARY:Mimenfeld spielt "Jetzt sind wir dran" von Alan Ayckbourn
DESCRIPTION:https://neuburg.com/veranstaltungen/mimenfeld-spielt-jetzt-sind
 -wir-dran-von-alan-ayckbourn_id44902
DTSTART;TZID=Europe/Berlin:20260516T190000
DURATION:PT30M
LOCATION:Stadtmuseum Neuburg an der Donau\, Amalienstraße  19\, 86633 Neub
 urg an der Donau
END:VEVENT
END:VCALENDAR
