BEGIN:VCALENDAR
VERSION:2.0
PRODID:-//Sabre//Sabre VObject 4.5.8//EN
CALSCALE:GREGORIAN
BEGIN:VEVENT
UID:sabre-vobject-f2a63036-097b-443c-8eb8-15864c2afff9
DTSTAMP:20260421T094254Z
SUMMARY:Mimenfeld spielt "Jetzt sind wir dran" von Alan Ayckbourn
DESCRIPTION:https://neuburg.com/veranstaltungen/mimenfeld-spielt-jetzt-sind
 -wir-dran-von-alan-ayckbourn_id44901
DTSTART;TZID=Europe/Berlin:20260515T190000
DURATION:PT30M
LOCATION:Stadtmuseum Neuburg an der Donau\, Amalienstraße  19\, 86633 Neub
 urg an der Donau
END:VEVENT
END:VCALENDAR
