BEGIN:VCALENDAR
VERSION:2.0
PRODID:-//Sabre//Sabre VObject 4.5.8//EN
CALSCALE:GREGORIAN
BEGIN:VEVENT
UID:sabre-vobject-36dd0be0-1fef-4ba2-a971-58864a6920b7
DTSTAMP:20260421T090759Z
SUMMARY:Mimenfeld spielt "Jetzt sind wir dran" von Alan Ayckbourn
DESCRIPTION:https://neuburg.com/veranstaltungen/mimenfeld-spielt-jetzt-sind
 -wir-dran-von-alan-ayckbourn_id44897
DTSTART;TZID=Europe/Berlin:20260507T190000
DURATION:PT30M
LOCATION:Stadtmuseum Neuburg an der Donau\, Amalienstraße  19\, 86633 Neub
 urg an der Donau
END:VEVENT
END:VCALENDAR
