BEGIN:VCALENDAR
VERSION:2.0
PRODID:-//Sabre//Sabre VObject 4.5.8//EN
CALSCALE:GREGORIAN
BEGIN:VEVENT
UID:sabre-vobject-2f71e697-ee63-4432-a866-3742578fcac8
DTSTAMP:20260420T170246Z
SUMMARY:Elterngeld\, Elternzeit & Co
DESCRIPTION:https://neuburg.com/veranstaltungen/elterngeld-elternzeit-co_id
 44732
DTSTART;TZID=Europe/Berlin:20261015T190000
DTEND;TZID=Europe/Berlin:20261015T203000
LOCATION:Bürgerhaus Schwalbanger\, Richard-Wagner-Straße 6\, 86633 Neubur
 g an der Donau
END:VEVENT
END:VCALENDAR
