BEGIN:VCALENDAR
VERSION:2.0
PRODID:-//Sabre//Sabre VObject 4.5.8//EN
CALSCALE:GREGORIAN
BEGIN:VEVENT
UID:sabre-vobject-94bfd222-50b2-4fda-b45e-3ed7b0865a82
DTSTAMP:20260420T170014Z
SUMMARY:Kinderschlaf – Online Sprechstunde
DESCRIPTION:https://neuburg.com/veranstaltungen/kinderschlaf-online-sprechs
 tunde_id44731
DTSTART;TZID=Europe/Berlin:20261012T083000
DTEND;TZID=Europe/Berlin:20261012T100000
LOCATION:Online
END:VEVENT
END:VCALENDAR
