BEGIN:VCALENDAR
VERSION:2.0
PRODID:-//Sabre//Sabre VObject 4.5.8//EN
CALSCALE:GREGORIAN
BEGIN:VEVENT
UID:sabre-vobject-10951557-8c61-4a4d-b85b-55e6f1ea7b2a
DTSTAMP:20260421T121954Z
SUMMARY:Konflikte meistern - beziehungskompetente Kommunikation im Familien
 leben
DESCRIPTION:https://neuburg.com/veranstaltungen/konflikte-meistern-beziehun
 gskompetente-kommunikation-im-familienleben_id44729
DTSTART;TZID=Europe/Berlin:20261006T100000
DTEND;TZID=Europe/Berlin:20261006T120000
LOCATION:Online
END:VEVENT
END:VCALENDAR
