BEGIN:VCALENDAR
VERSION:2.0
PRODID:-//Sabre//Sabre VObject 4.5.8//EN
CALSCALE:GREGORIAN
BEGIN:VEVENT
UID:sabre-vobject-12012b81-19c7-41f5-9d5f-aebdae861477
DTSTAMP:20260421T121952Z
SUMMARY:Offener Alleinerziehenden-Treff „Starkes Solo“
DESCRIPTION:https://neuburg.com/veranstaltungen/offener-alleinerziehenden-t
 reff-starkes-solo_id44727
DTSTART;TZID=Europe/Berlin:20260925T160000
DTEND;TZID=Europe/Berlin:20260925T180000
LOCATION:Bürgerhaus Schwalbanger\, Richard-Wagner-Straße 6\, 86633 Neubur
 g an der Donau
END:VEVENT
END:VCALENDAR
