BEGIN:VCALENDAR
VERSION:2.0
PRODID:-//Sabre//Sabre VObject 4.5.8//EN
CALSCALE:GREGORIAN
BEGIN:VEVENT
UID:sabre-vobject-c06be3b7-8441-4022-b4ed-0720357c7cf9
DTSTAMP:20260421T123117Z
SUMMARY:Medienerziehung im Kleinkindalter
DESCRIPTION:https://neuburg.com/veranstaltungen/medienerziehung-im-kleinkin
 dalter_id44726
DTSTART;TZID=Europe/Berlin:20260921T190000
DTEND;TZID=Europe/Berlin:20260921T203000
LOCATION:Online
END:VEVENT
END:VCALENDAR
