BEGIN:VCALENDAR
VERSION:2.0
PRODID:-//Sabre//Sabre VObject 4.5.8//EN
CALSCALE:GREGORIAN
BEGIN:VEVENT
UID:sabre-vobject-8599ad53-7f8d-494c-b3de-20ce93f96b98
DTSTAMP:20260421T123117Z
SUMMARY:Kinderschlaf – Online Sprechstunde
DESCRIPTION:https://neuburg.com/veranstaltungen/kinderschlaf-online-sprechs
 tunde_id44725
DTSTART;TZID=Europe/Berlin:20260926T090000
DTEND;TZID=Europe/Berlin:20260926T093000
LOCATION:Online
END:VEVENT
END:VCALENDAR
