BEGIN:VCALENDAR
VERSION:2.0
PRODID:-//Sabre//Sabre VObject 4.5.8//EN
CALSCALE:GREGORIAN
BEGIN:VEVENT
UID:sabre-vobject-cb4f5359-fc21-4903-a3b5-67ba87c53585
DTSTAMP:20260421T153754Z
SUMMARY:Spielplatzfest für Familien
DESCRIPTION:https://neuburg.com/veranstaltungen/spielplatzfest-fuer-familie
 n_id44724
DTSTART;TZID=Europe/Berlin:20260828T160000
DTEND;TZID=Europe/Berlin:20260828T180000
LOCATION:Spielpatz / Neuburg (wird bei Anmeldung bekannt gegeben)
END:VEVENT
END:VCALENDAR
