BEGIN:VCALENDAR
VERSION:2.0
PRODID:-//Sabre//Sabre VObject 4.5.8//EN
CALSCALE:GREGORIAN
BEGIN:VEVENT
UID:sabre-vobject-9a375b3c-8a21-4f98-8560-79bce0724cdd
DTSTAMP:20260421T124146Z
SUMMARY:Kinderschlaf – Online Sprechstunde
DESCRIPTION:https://neuburg.com/veranstaltungen/kinderschlaf-online-sprechs
 tunde_id44723
DTSTART;TZID=Europe/Berlin:20260907T083000
DTEND;TZID=Europe/Berlin:20260907T100000
LOCATION:Online
END:VEVENT
END:VCALENDAR
