BEGIN:VCALENDAR
VERSION:2.0
PRODID:-//Sabre//Sabre VObject 4.5.8//EN
CALSCALE:GREGORIAN
BEGIN:VEVENT
UID:sabre-vobject-66d502e4-1621-4ed3-9764-59f73f926293
DTSTAMP:20260421T090735Z
SUMMARY:3. Retrogames Börse
DESCRIPTION:https://neuburg.com/veranstaltungen/3-retrogames-boerse_id44718
DTSTART;TZID=Europe/Berlin:20260509T110000
DTEND;TZID=Europe/Berlin:20260509T160000
LOCATION:Fürstlicher Marstall\, Ottheinrichplatz A 117\, 86633 Neuburg an 
 der Donau
END:VEVENT
END:VCALENDAR
