BEGIN:VCALENDAR
VERSION:2.0
PRODID:-//Sabre//Sabre VObject 4.5.8//EN
CALSCALE:GREGORIAN
BEGIN:VEVENT
UID:sabre-vobject-64dec97f-71f7-49d7-bba2-3061a3738d73
DTSTAMP:20260421T160427Z
SUMMARY:Kleine Konzerte in der Studienkirche: Luitilo’s Weybergesang
DESCRIPTION:https://neuburg.com/veranstaltungen/kleine-konzerte-in-der-stud
 ienkirche-luitilo-s-weybergesang_id44684
DTSTART;TZID=Europe/Berlin:20260927T190000
DTEND;TZID=Europe/Berlin:20260927T194500
LOCATION:Studienkirche St. Ursula\, Wolfgang-Wilhelm-Platz B 90\, 86633 Neu
 burg
END:VEVENT
END:VCALENDAR
