BEGIN:VCALENDAR
VERSION:2.0
PRODID:-//Sabre//Sabre VObject 4.5.8//EN
CALSCALE:GREGORIAN
BEGIN:VEVENT
UID:sabre-vobject-9ac1304a-7a61-4bdf-b9d6-4f5222b1f69f
DTSTAMP:20260421T142657Z
SUMMARY:Kleine Konzerte in der Studienkirche: VoceFestiva-Duo
DESCRIPTION:https://neuburg.com/veranstaltungen/kleine-konzerte-in-der-stud
 ienkirche-vocefestiva-duo_id44683
DTSTART;TZID=Europe/Berlin:20260920T190000
DTEND;TZID=Europe/Berlin:20260920T194500
LOCATION:Studienkirche St. Ursula\, Wolfgang-Wilhelm-Platz B 90\, 86633 Neu
 burg
END:VEVENT
END:VCALENDAR
