BEGIN:VCALENDAR
VERSION:2.0
PRODID:-//Sabre//Sabre VObject 4.5.8//EN
CALSCALE:GREGORIAN
BEGIN:VEVENT
UID:sabre-vobject-fa5e36f2-1c8e-4668-81e2-65f4b34275e3
DTSTAMP:20260421T142652Z
SUMMARY:Kleine Konzerte in der Studienkirche: m&m's
DESCRIPTION:https://neuburg.com/veranstaltungen/kleine-konzerte-in-der-stud
 ienkirche-m-m-s_id44682
DTSTART;TZID=Europe/Berlin:20260913T190000
DTEND;TZID=Europe/Berlin:20260913T194500
LOCATION:Studienkirche St. Ursula\, Wolfgang-Wilhelm-Platz B 90\, 86633 Neu
 burg
END:VEVENT
END:VCALENDAR
