BEGIN:VCALENDAR
VERSION:2.0
PRODID:-//Sabre//Sabre VObject 4.5.8//EN
CALSCALE:GREGORIAN
BEGIN:VEVENT
UID:sabre-vobject-f14d2f08-557e-4cfa-bf99-d99f0c8cf7e2
DTSTAMP:20260421T144612Z
SUMMARY:Kleine Konzerte in der Schlosskapelle: Platerspil
DESCRIPTION:https://neuburg.com/veranstaltungen/kleine-konzerte-in-der-schl
 osskapelle-platerspil_id44681
DTSTART;TZID=Europe/Berlin:20260906T190000
DTEND;TZID=Europe/Berlin:20260906T194500
LOCATION:Schlosskapelle\, Residenzstraße 2\, 86633 Neuburg
END:VEVENT
END:VCALENDAR
