BEGIN:VCALENDAR
VERSION:2.0
PRODID:-//Sabre//Sabre VObject 4.5.8//EN
CALSCALE:GREGORIAN
BEGIN:VEVENT
UID:sabre-vobject-a65de9f5-a0fe-4df2-b5e1-2ea813381fcd
DTSTAMP:20260421T160605Z
SUMMARY:Kleine Konzerte in der Schlosskapelle: Ensemble Grünthal
DESCRIPTION:https://neuburg.com/veranstaltungen/kleine-konzerte-in-der-schl
 osskapelle-ensemble-gruenthal_id44678
DTSTART;TZID=Europe/Berlin:20260809T190000
DTEND;TZID=Europe/Berlin:20260809T194500
LOCATION:Schlosskapelle\, Residenzstraße 2\, 86633 Neuburg
END:VEVENT
END:VCALENDAR
