BEGIN:VCALENDAR
VERSION:2.0
PRODID:-//Sabre//Sabre VObject 4.5.8//EN
CALSCALE:GREGORIAN
BEGIN:VEVENT
UID:sabre-vobject-67a54e1e-3048-4145-8011-ff77456c6a3f
DTSTAMP:20260421T090703Z
SUMMARY:Kleine Konzerte in der Schlosskapelle: La Giatarrata
DESCRIPTION:https://neuburg.com/veranstaltungen/kleine-konzerte-in-der-schl
 osskapelle-la-giatarrata_id44677
DTSTART;TZID=Europe/Berlin:20260802T190000
DTEND;TZID=Europe/Berlin:20260802T194500
LOCATION:Schlosskapelle\, Residenzstraße 2\, 86633 Neuburg
END:VEVENT
END:VCALENDAR
