BEGIN:VCALENDAR
VERSION:2.0
PRODID:-//Sabre//Sabre VObject 4.5.8//EN
CALSCALE:GREGORIAN
BEGIN:VEVENT
UID:sabre-vobject-de7a9c5b-b88d-4d9f-a5a8-41fc2b00c0e1
DTSTAMP:20260421T090703Z
SUMMARY:Kleine Konzerte in der Studienkirche: Muskateller Saitenmusik
DESCRIPTION:https://neuburg.com/veranstaltungen/kleine-konzerte-in-der-stud
 ienkirche-muskateller-saitenmusik_id44674
DTSTART;TZID=Europe/Berlin:20260712T190000
DTEND;TZID=Europe/Berlin:20260712T194500
LOCATION:Studienkirche St. Ursula\, Wolfgang-Wilhelm-Platz B 90\, 86633 Neu
 burg
END:VEVENT
END:VCALENDAR
