BEGIN:VCALENDAR
VERSION:2.0
PRODID:-//Sabre//Sabre VObject 4.5.8//EN
CALSCALE:GREGORIAN
BEGIN:VEVENT
UID:sabre-vobject-71782cb3-0cc1-47c8-a116-d3235adb3860
DTSTAMP:20260421T161332Z
SUMMARY:Kleine Konzerte in der Schlosskapelle: Mallett Connection
DESCRIPTION:https://neuburg.com/veranstaltungen/kleine-konzerte-in-der-schl
 osskapelle-mallett-connection_id44670
DTSTART;TZID=Europe/Berlin:20260531T190000
DTEND;TZID=Europe/Berlin:20260531T194500
LOCATION:Schlosskapelle\, Residenzstraße 2\, 86633 Neuburg
END:VEVENT
END:VCALENDAR
