BEGIN:VCALENDAR
VERSION:2.0
PRODID:-//Sabre//Sabre VObject 4.5.8//EN
CALSCALE:GREGORIAN
BEGIN:VEVENT
UID:sabre-vobject-0401445b-4580-4c8f-a050-9edd1ea76215
DTSTAMP:20260421T161349Z
SUMMARY:Weinseminar
DESCRIPTION:https://neuburg.com/veranstaltungen/weinseminar_id44623
DTSTART;TZID=Europe/Berlin:20260912T160000
DTEND;TZID=Europe/Berlin:20260912T190000
LOCATION:Weinberg & Weinhaus Tremml\, \, 86633 Neuburg an der Donau
END:VEVENT
END:VCALENDAR
