BEGIN:VCALENDAR
VERSION:2.0
PRODID:-//Sabre//Sabre VObject 4.5.8//EN
CALSCALE:GREGORIAN
BEGIN:VEVENT
UID:sabre-vobject-2fa54e41-c7d3-41fe-a17c-1c193201ad98
DTSTAMP:20260421T093540Z
SUMMARY:Südpark Familienfest
DESCRIPTION:https://neuburg.com/veranstaltungen/suedpark-familienfest_id446
 02
DTSTART;TZID=Europe/Berlin:20260711T110000
DTEND;TZID=Europe/Berlin:20260711T170000
LOCATION:Einkaufszentrum Südpark\, Südpark\, 86633 Neuburg an der Donau
END:VEVENT
END:VCALENDAR
