BEGIN:VCALENDAR
VERSION:2.0
PRODID:-//Sabre//Sabre VObject 4.5.8//EN
CALSCALE:GREGORIAN
BEGIN:VEVENT
UID:sabre-vobject-2f51f748-a848-49e4-9f06-98c3f88507fd
DTSTAMP:20260421T092910Z
SUMMARY:In Verbindung mit deinem Baby – Zeit für dich und deine Schwange
 rschaft
DESCRIPTION:https://neuburg.com/veranstaltungen/in-verbindung-mit-deinem-ba
 by-zeit-fuer-dich-und-deine-schwangerschaft_id44303
DTSTART;TZID=Europe/Berlin:20260619T160000
DTEND;TZID=Europe/Berlin:20260619T180000
LOCATION:Bürgerhaus Schwalbanger\, Richard-Wagner-Straße 6\, 86633 Neubur
 g an der Donau
END:VEVENT
END:VCALENDAR
