BEGIN:VCALENDAR
VERSION:2.0
PRODID:-//Sabre//Sabre VObject 4.5.8//EN
CALSCALE:GREGORIAN
BEGIN:VEVENT
UID:sabre-vobject-47a50bbe-f144-4399-a3a9-194370513e5c
DTSTAMP:20260421T161446Z
SUMMARY:Acker Alm Dinner Event - Wald & Wurzel
DESCRIPTION:https://neuburg.com/veranstaltungen/acker-alm-dinner-event-wald
 -wurzel_id44298
DTSTART;TZID=Europe/Berlin:20261002T173000
DURATION:PT30M
LOCATION:Die Acker Alm\, Am Maschinenring 2\, 86633 Neuburg an der Donau
END:VEVENT
END:VCALENDAR
