BEGIN:VCALENDAR
VERSION:2.0
PRODID:-//Sabre//Sabre VObject 4.5.8//EN
CALSCALE:GREGORIAN
BEGIN:VEVENT
UID:sabre-vobject-2de90c9e-145c-4692-8289-2d2685dc0ac7
DTSTAMP:20260421T090622Z
SUMMARY:Family Talk bei Brötchen und Kaffee - Wo Frühstück auf Familienw
 issen trifft
DESCRIPTION:https://neuburg.com/veranstaltungen/family-talk-bei-broetchen-u
 nd-kaffee-wo-fruehstueck-auf-familienwissen-trifft_id44293
DTSTART;TZID=Europe/Berlin:20260618T093000
DTEND;TZID=Europe/Berlin:20260618T110000
LOCATION:Volkshochschule Neuburg e.V. (VHS)\, Franziskanerstraße B 200\, 8
 6633 Neuburg an der Donau
END:VEVENT
END:VCALENDAR
