BEGIN:VCALENDAR
VERSION:2.0
PRODID:-//Sabre//Sabre VObject 4.5.8//EN
CALSCALE:GREGORIAN
BEGIN:VEVENT
UID:sabre-vobject-ff171efb-1509-46d1-bff0-0f419a0bc5bd
DTSTAMP:20260421T205629Z
SUMMARY:Eltern-Kind Frühlingsbasteln
DESCRIPTION:https://neuburg.com/veranstaltungen/eltern-kind-fruehlingsbaste
 ln_id44286
DTSTART;TZID=Europe/Berlin:20260425T090000
DTEND;TZID=Europe/Berlin:20260425T113000
LOCATION:Bürgerhaus Schwalbanger\, Richard-Wagner-Straße 6\, 86633 Neubur
 g an der Donau
END:VEVENT
END:VCALENDAR
