BEGIN:VCALENDAR
VERSION:2.0
PRODID:-//Sabre//Sabre VObject 4.5.8//EN
CALSCALE:GREGORIAN
BEGIN:VEVENT
UID:sabre-vobject-a8ec2ae9-83b4-4ce6-87d6-bbca3b29370a
DTSTAMP:20260421T140305Z
SUMMARY:NEU! Friedhofsgeschichten
DESCRIPTION:https://neuburg.com/veranstaltungen/neu-friedhofsgeschichten_id
 44200
DTSTART;TZID=Europe/Berlin:20260927T180000
DTEND;TZID=Europe/Berlin:20260927T193000
LOCATION:Städtischer Friedhof "Alter Friedhof"\, Franziskanerstraße 219\,
  86633 Neuburg an der Donau
END:VEVENT
END:VCALENDAR
