BEGIN:VCALENDAR
VERSION:2.0
PRODID:-//Sabre//Sabre VObject 4.5.8//EN
CALSCALE:GREGORIAN
BEGIN:VEVENT
UID:sabre-vobject-0c5aeac6-428d-42d6-b41b-56d7c5b3ca71
DTSTAMP:20260421T142813Z
SUMMARY:Kräuterwanderung "WUNDER-voller Mai"
DESCRIPTION:https://neuburg.com/veranstaltungen/kraeuterwanderung-wunder-vo
 ller-mai_id44088
DTSTART;TZID=Europe/Berlin:20260523T140000
DTEND;TZID=Europe/Berlin:20260523T180000
LOCATION:Wildpflanzenzauber\, Eulatalstr. 13\, 86633 Neuburg-Bittenbrunn
END:VEVENT
END:VCALENDAR
