BEGIN:VCALENDAR
VERSION:2.0
PRODID:-//Sabre//Sabre VObject 4.5.8//EN
CALSCALE:GREGORIAN
BEGIN:VEVENT
UID:sabre-vobject-55210127-044d-47a1-8003-9b431fc3795c
DTSTAMP:20260421T180544Z
SUMMARY:Die kleine Raupe
DESCRIPTION:https://neuburg.com/veranstaltungen/die-kleine-raupe_id44085
DTSTART;TZID=Europe/Berlin:20260516T160000
DTEND;TZID=Europe/Berlin:20260516T164000
LOCATION:Neuburger Marionettentheater\, Amalienstraße 8\, 86633 Neuburg an
  der Donau
END:VEVENT
END:VCALENDAR
