BEGIN:VCALENDAR
VERSION:2.0
PRODID:-//Sabre//Sabre VObject 4.5.8//EN
CALSCALE:GREGORIAN
BEGIN:VEVENT
UID:sabre-vobject-97868477-5280-4c4c-926c-569dbed61281
DTSTAMP:20260421T043501Z
SUMMARY:Rundwanderung zur Schutterquelle über Aicha und Hard
DESCRIPTION:https://neuburg.com/veranstaltungen/rundwanderung-zur-schutterq
 uelle-ueber-aicha-und-hard_id43980
DTSTART;TZID=Europe/Berlin:20261027T124500
DURATION:PT30M
END:VEVENT
END:VCALENDAR
