BEGIN:VCALENDAR
VERSION:2.0
PRODID:-//Sabre//Sabre VObject 4.5.8//EN
CALSCALE:GREGORIAN
BEGIN:VEVENT
UID:sabre-vobject-90977a4f-9a0c-4229-9b80-f96deece90dd
DTSTAMP:20260421T142815Z
SUMMARY:Rundwanderung über Dezenacker und St. Wolfgang
DESCRIPTION:https://neuburg.com/veranstaltungen/rundwanderung-ueber-dezenac
 ker-und-st-wolfgang_id43979
DTSTART;TZID=Europe/Berlin:20260922T124500
DURATION:PT30M
END:VEVENT
END:VCALENDAR
