BEGIN:VCALENDAR
VERSION:2.0
PRODID:-//Sabre//Sabre VObject 4.5.8//EN
CALSCALE:GREGORIAN
BEGIN:VEVENT
UID:sabre-vobject-c8293f98-65ef-4a38-928e-182bd1063bd4
DTSTAMP:20260421T142656Z
SUMMARY:NEU! Sapperlot\, was seh' ich da?
DESCRIPTION:https://neuburg.com/veranstaltungen/neu-sapperlot-was-seh-ich-d
 a_id43963
DTSTART;TZID=Europe/Berlin:20260925T190000
DTEND;TZID=Europe/Berlin:20260925T203000
LOCATION:Tourist-Information\, Ottheinrichplatz A 118\, 86633 Neuburg
END:VEVENT
END:VCALENDAR
